BEGIN:VCALENDAR
VERSION:2.0
PRODID:-//Santiva Chronicle - ECPv6.15.20//NONSGML v1.0//EN
CALSCALE:GREGORIAN
METHOD:PUBLISH
X-WR-CALNAME:Santiva Chronicle
X-ORIGINAL-URL:https://santivachronicle.com
X-WR-CALDESC:Events for Santiva Chronicle
REFRESH-INTERVAL;VALUE=DURATION:PT1H
X-Robots-Tag:noindex
X-PUBLISHED-TTL:PT1H
BEGIN:VTIMEZONE
TZID:America/New_York
BEGIN:DAYLIGHT
TZOFFSETFROM:-0500
TZOFFSETTO:-0400
TZNAME:EDT
DTSTART:20210314T070000
END:DAYLIGHT
BEGIN:STANDARD
TZOFFSETFROM:-0400
TZOFFSETTO:-0500
TZNAME:EST
DTSTART:20211107T060000
END:STANDARD
BEGIN:DAYLIGHT
TZOFFSETFROM:-0500
TZOFFSETTO:-0400
TZNAME:EDT
DTSTART:20220313T070000
END:DAYLIGHT
BEGIN:STANDARD
TZOFFSETFROM:-0400
TZOFFSETTO:-0500
TZNAME:EST
DTSTART:20221106T060000
END:STANDARD
BEGIN:DAYLIGHT
TZOFFSETFROM:-0500
TZOFFSETTO:-0400
TZNAME:EDT
DTSTART:20230312T070000
END:DAYLIGHT
BEGIN:STANDARD
TZOFFSETFROM:-0400
TZOFFSETTO:-0500
TZNAME:EST
DTSTART:20231105T060000
END:STANDARD
END:VTIMEZONE
BEGIN:VEVENT
DTSTART;TZID=America/New_York:20221021T093000
DTEND;TZID=America/New_York:20221021T103000
DTSTAMP:20260425T101322
CREATED:20220725T185430Z
LAST-MODIFIED:20220908T212849Z
UID:10004117-1666344600-1666348200@santivachronicle.com
SUMMARY:SCH: Aerobics
DESCRIPTION:Aerobics with Mahnaz Bassiri\, one class is offered. Bring your own weights (optional). The cost is $5 for members or $10 for guests per class. \nShare this:\n				Email a link to a friend (Opens in new window)\n				Email\n			\n				Share on Facebook (Opens in new window)\n				Facebook\n			\n				Share on X (Opens in new window)\n				X\n			\n				Print (Opens in new window)\n				Print
URL:https://santivachronicle.com/event/sch-aerobics/2022-10-21/
LOCATION:Sanibel Community House\, 2173 Periwinkle Way\, Sanibel\, Florida\, 33957
CATEGORIES:Exercise
END:VEVENT
BEGIN:VEVENT
DTSTART;TZID=America/New_York:20221021T063000
DTEND;TZID=America/New_York:20221021T080000
DTSTAMP:20260425T101322
CREATED:20220921T201354Z
LAST-MODIFIED:20220921T201354Z
UID:10004209-1666333800-1666339200@santivachronicle.com
SUMMARY:SanCap Rotary Club Meeting
DESCRIPTION:Share this:\n				Email a link to a friend (Opens in new window)\n				Email\n			\n				Share on Facebook (Opens in new window)\n				Facebook\n			\n				Share on X (Opens in new window)\n				X\n			\n				Print (Opens in new window)\n				Print
URL:https://santivachronicle.com/event/sancap-rotary-club-meeting/2022-10-21/
LOCATION:Sanibel Community House\, 2173 Periwinkle Way\, Sanibel\, Florida\, 33957
CATEGORIES:Clubs
END:VEVENT
BEGIN:VEVENT
DTSTART;TZID=America/New_York:20221020T130000
DTEND;TZID=America/New_York:20221020T140000
DTSTAMP:20260425T101322
CREATED:20220725T185603Z
LAST-MODIFIED:20220908T213105Z
UID:10004133-1666270800-1666274400@santivachronicle.com
SUMMARY:SCH: Chair Stretching
DESCRIPTION:Chair Stretching Exercises with Mahnaz Bassiri\n$10 for members or $15 for guests per class. \nShare this:\n				Email a link to a friend (Opens in new window)\n				Email\n			\n				Share on Facebook (Opens in new window)\n				Facebook\n			\n				Share on X (Opens in new window)\n				X\n			\n				Print (Opens in new window)\n				Print
URL:https://santivachronicle.com/event/sch-chair-stretching/2022-10-20/
LOCATION:Sanibel Community House\, 2173 Periwinkle Way\, Sanibel\, Florida\, 33957
CATEGORIES:Exercise
END:VEVENT
BEGIN:VEVENT
DTSTART;TZID=America/New_York:20221020T093000
DTEND;TZID=America/New_York:20221020T103000
DTSTAMP:20260425T101322
CREATED:20220725T184105Z
LAST-MODIFIED:20220908T210914Z
UID:10004040-1666258200-1666261800@santivachronicle.com
SUMMARY:Island Seniors: Gentle Yoga
DESCRIPTION:Island Senior Inc member fee is $4.10. Rec Center members no charge but must show valid member card to participate. Visitor fees available. \nShare this:\n				Email a link to a friend (Opens in new window)\n				Email\n			\n				Share on Facebook (Opens in new window)\n				Facebook\n			\n				Share on X (Opens in new window)\n				X\n			\n				Print (Opens in new window)\n				Print
URL:https://santivachronicle.com/event/island-seniors-gentle-yoga/2022-10-20/
LOCATION:Sanibel Recreation Center\, 3880 Sanibel Captiva Rd\, Sanibel\, FL\, 33957\, United States
CATEGORIES:Island Seniors
END:VEVENT
BEGIN:VEVENT
DTSTART;TZID=America/New_York:20221019T093000
DTEND;TZID=America/New_York:20221019T110000
DTSTAMP:20260425T101322
CREATED:20220908T210753Z
LAST-MODIFIED:20220908T210753Z
UID:10004172-1666171800-1666177200@santivachronicle.com
SUMMARY:Island Seniors: Balance-Core Strength Aerobics
DESCRIPTION:Island Senior Inc member fee $4.10. Rec Center members no charge but must show valid member card to participate. Visitor fees available. \nShare this:\n				Email a link to a friend (Opens in new window)\n				Email\n			\n				Share on Facebook (Opens in new window)\n				Facebook\n			\n				Share on X (Opens in new window)\n				X\n			\n				Print (Opens in new window)\n				Print
URL:https://santivachronicle.com/event/island-seniors-balance-core-strength-aerobics/2022-10-19/
LOCATION:Sanibel Recreation Center\, 3880 Sanibel Captiva Rd\, Sanibel\, FL\, 33957\, United States
CATEGORIES:Island Seniors
END:VEVENT
BEGIN:VEVENT
DTSTART;TZID=America/New_York:20221019T093000
DTEND;TZID=America/New_York:20221019T103000
DTSTAMP:20260425T101322
CREATED:20220725T185430Z
LAST-MODIFIED:20220908T212849Z
UID:10004116-1666171800-1666175400@santivachronicle.com
SUMMARY:SCH: Aerobics
DESCRIPTION:Aerobics with Mahnaz Bassiri\, one class is offered. Bring your own weights (optional). The cost is $5 for members or $10 for guests per class. \nShare this:\n				Email a link to a friend (Opens in new window)\n				Email\n			\n				Share on Facebook (Opens in new window)\n				Facebook\n			\n				Share on X (Opens in new window)\n				X\n			\n				Print (Opens in new window)\n				Print
URL:https://santivachronicle.com/event/sch-aerobics/2022-10-19/
LOCATION:Sanibel Community House\, 2173 Periwinkle Way\, Sanibel\, Florida\, 33957
CATEGORIES:Exercise
END:VEVENT
BEGIN:VEVENT
DTSTART;TZID=America/New_York:20221018T093000
DTEND;TZID=America/New_York:20221018T103000
DTSTAMP:20260425T101322
CREATED:20220725T184105Z
LAST-MODIFIED:20220908T210914Z
UID:10004039-1666085400-1666089000@santivachronicle.com
SUMMARY:Island Seniors: Gentle Yoga
DESCRIPTION:Island Senior Inc member fee is $4.10. Rec Center members no charge but must show valid member card to participate. Visitor fees available. \nShare this:\n				Email a link to a friend (Opens in new window)\n				Email\n			\n				Share on Facebook (Opens in new window)\n				Facebook\n			\n				Share on X (Opens in new window)\n				X\n			\n				Print (Opens in new window)\n				Print
URL:https://santivachronicle.com/event/island-seniors-gentle-yoga/2022-10-18/
LOCATION:Sanibel Recreation Center\, 3880 Sanibel Captiva Rd\, Sanibel\, FL\, 33957\, United States
CATEGORIES:Island Seniors
END:VEVENT
BEGIN:VEVENT
DTSTART;TZID=America/New_York:20221017T093000
DTEND;TZID=America/New_York:20221017T103000
DTSTAMP:20260425T101322
CREATED:20220725T185430Z
LAST-MODIFIED:20220908T212849Z
UID:10004115-1665999000-1666002600@santivachronicle.com
SUMMARY:SCH: Aerobics
DESCRIPTION:Aerobics with Mahnaz Bassiri\, one class is offered. Bring your own weights (optional). The cost is $5 for members or $10 for guests per class. \nShare this:\n				Email a link to a friend (Opens in new window)\n				Email\n			\n				Share on Facebook (Opens in new window)\n				Facebook\n			\n				Share on X (Opens in new window)\n				X\n			\n				Print (Opens in new window)\n				Print
URL:https://santivachronicle.com/event/sch-aerobics/2022-10-17/
LOCATION:Sanibel Community House\, 2173 Periwinkle Way\, Sanibel\, Florida\, 33957
CATEGORIES:Exercise
END:VEVENT
BEGIN:VEVENT
DTSTART;TZID=America/New_York:20221017T090000
DTEND;TZID=America/New_York:20221017T130000
DTSTAMP:20260425T101322
CREATED:20220725T185221Z
LAST-MODIFIED:20220908T212726Z
UID:10004077-1665997200-1666011600@santivachronicle.com
SUMMARY:SCH: Shellcrafters
DESCRIPTION:Observe these artists at work. The class is free; participants pay for supply costs starting at $5. \nShare this:\n				Email a link to a friend (Opens in new window)\n				Email\n			\n				Share on Facebook (Opens in new window)\n				Facebook\n			\n				Share on X (Opens in new window)\n				X\n			\n				Print (Opens in new window)\n				Print
URL:https://santivachronicle.com/event/sch-shellcrafters/2022-10-17/
LOCATION:Sanibel Community House\, 2173 Periwinkle Way\, Sanibel\, Florida\, 33957
CATEGORIES:Arts & Culture
END:VEVENT
BEGIN:VEVENT
DTSTART;TZID=America/New_York:20221014T093000
DTEND;TZID=America/New_York:20221014T103000
DTSTAMP:20260425T101322
CREATED:20220725T185430Z
LAST-MODIFIED:20220908T212849Z
UID:10004114-1665739800-1665743400@santivachronicle.com
SUMMARY:SCH: Aerobics
DESCRIPTION:Aerobics with Mahnaz Bassiri\, one class is offered. Bring your own weights (optional). The cost is $5 for members or $10 for guests per class. \nShare this:\n				Email a link to a friend (Opens in new window)\n				Email\n			\n				Share on Facebook (Opens in new window)\n				Facebook\n			\n				Share on X (Opens in new window)\n				X\n			\n				Print (Opens in new window)\n				Print
URL:https://santivachronicle.com/event/sch-aerobics/2022-10-14/
LOCATION:Sanibel Community House\, 2173 Periwinkle Way\, Sanibel\, Florida\, 33957
CATEGORIES:Exercise
END:VEVENT
BEGIN:VEVENT
DTSTART;TZID=America/New_York:20221014T063000
DTEND;TZID=America/New_York:20221014T080000
DTSTAMP:20260425T101322
CREATED:20220921T201354Z
LAST-MODIFIED:20220921T201354Z
UID:10004208-1665729000-1665734400@santivachronicle.com
SUMMARY:SanCap Rotary Club Meeting
DESCRIPTION:Share this:\n				Email a link to a friend (Opens in new window)\n				Email\n			\n				Share on Facebook (Opens in new window)\n				Facebook\n			\n				Share on X (Opens in new window)\n				X\n			\n				Print (Opens in new window)\n				Print
URL:https://santivachronicle.com/event/sancap-rotary-club-meeting/2022-10-14/
LOCATION:Sanibel Community House\, 2173 Periwinkle Way\, Sanibel\, Florida\, 33957
CATEGORIES:Clubs
END:VEVENT
BEGIN:VEVENT
DTSTART;TZID=America/New_York:20221013T130000
DTEND;TZID=America/New_York:20221013T140000
DTSTAMP:20260425T101322
CREATED:20220725T185603Z
LAST-MODIFIED:20220908T213105Z
UID:10004132-1665666000-1665669600@santivachronicle.com
SUMMARY:SCH: Chair Stretching
DESCRIPTION:Chair Stretching Exercises with Mahnaz Bassiri\n$10 for members or $15 for guests per class. \nShare this:\n				Email a link to a friend (Opens in new window)\n				Email\n			\n				Share on Facebook (Opens in new window)\n				Facebook\n			\n				Share on X (Opens in new window)\n				X\n			\n				Print (Opens in new window)\n				Print
URL:https://santivachronicle.com/event/sch-chair-stretching/2022-10-13/
LOCATION:Sanibel Community House\, 2173 Periwinkle Way\, Sanibel\, Florida\, 33957
CATEGORIES:Exercise
END:VEVENT
BEGIN:VEVENT
DTSTART;TZID=America/New_York:20221013T113000
DTEND;TZID=America/New_York:20221013T130000
DTSTAMP:20260425T101322
CREATED:20220921T172000Z
LAST-MODIFIED:20220921T172057Z
UID:10004200-1665660600-1665666000@santivachronicle.com
SUMMARY:Island Seniors: Leisure Lunchers
DESCRIPTION:Join our monthly Leisure Lunchers. Contact Deborah Butler at 239-314-4554 / deborahbutler@comcast.net or call Jessica or Dave at the Sanibel Recreation Center 239-472-0345 .Lunch participants will order and pay individually. \nShare this:\n				Email a link to a friend (Opens in new window)\n				Email\n			\n				Share on Facebook (Opens in new window)\n				Facebook\n			\n				Share on X (Opens in new window)\n				X\n			\n				Print (Opens in new window)\n				Print
URL:https://santivachronicle.com/event/island-seniors-leisure-lunchers-5/
LOCATION:Normandie Seaside Cafe\, 3345 W Gulf Dr\, Sanibel\, Fla\, 33957
CATEGORIES:Island Seniors
END:VEVENT
BEGIN:VEVENT
DTSTART;TZID=America/New_York:20221013T093000
DTEND;TZID=America/New_York:20221013T103000
DTSTAMP:20260425T101322
CREATED:20220725T184105Z
LAST-MODIFIED:20220908T210914Z
UID:10004038-1665653400-1665657000@santivachronicle.com
SUMMARY:Island Seniors: Gentle Yoga
DESCRIPTION:Island Senior Inc member fee is $4.10. Rec Center members no charge but must show valid member card to participate. Visitor fees available. \nShare this:\n				Email a link to a friend (Opens in new window)\n				Email\n			\n				Share on Facebook (Opens in new window)\n				Facebook\n			\n				Share on X (Opens in new window)\n				X\n			\n				Print (Opens in new window)\n				Print
URL:https://santivachronicle.com/event/island-seniors-gentle-yoga/2022-10-13/
LOCATION:Sanibel Recreation Center\, 3880 Sanibel Captiva Rd\, Sanibel\, FL\, 33957\, United States
CATEGORIES:Island Seniors
END:VEVENT
BEGIN:VEVENT
DTSTART;TZID=America/New_York:20221012T110000
DTEND;TZID=America/New_York:20221012T130000
DTSTAMP:20260425T101323
CREATED:20220921T182232Z
LAST-MODIFIED:20220921T182232Z
UID:10004203-1665572400-1665579600@santivachronicle.com
SUMMARY:Drive-Up Food Drive (SCUCC)
DESCRIPTION:We hope you’ll join us for our next drop-off food/paper goods drive. Bring your non-perishable food items and paper goods and our volunteers will unload your car for you. Your generous donations will benefit F.I.S.H. of the Islands and Gladiolus Food Pantries.\nWe are happy to be co-sponsoring this event with Bat Yam Temple of the Islands. Thank you in advance for your participation. \nShare this:\n				Email a link to a friend (Opens in new window)\n				Email\n			\n				Share on Facebook (Opens in new window)\n				Facebook\n			\n				Share on X (Opens in new window)\n				X\n			\n				Print (Opens in new window)\n				Print
URL:https://santivachronicle.com/event/drive-up-food-drive-scucc/
LOCATION:Sanibel Congregational United Church of Christ\, 2050 Periwinkle Way\, Sanibel\, FL\, 33957\, United States
CATEGORIES:Cooking & Food
END:VEVENT
BEGIN:VEVENT
DTSTART;TZID=America/New_York:20221012T093000
DTEND;TZID=America/New_York:20221012T110000
DTSTAMP:20260425T101323
CREATED:20220908T210753Z
LAST-MODIFIED:20220908T210753Z
UID:10004171-1665567000-1665572400@santivachronicle.com
SUMMARY:Island Seniors: Balance-Core Strength Aerobics
DESCRIPTION:Island Senior Inc member fee $4.10. Rec Center members no charge but must show valid member card to participate. Visitor fees available. \nShare this:\n				Email a link to a friend (Opens in new window)\n				Email\n			\n				Share on Facebook (Opens in new window)\n				Facebook\n			\n				Share on X (Opens in new window)\n				X\n			\n				Print (Opens in new window)\n				Print
URL:https://santivachronicle.com/event/island-seniors-balance-core-strength-aerobics/2022-10-12/
LOCATION:Sanibel Recreation Center\, 3880 Sanibel Captiva Rd\, Sanibel\, FL\, 33957\, United States
CATEGORIES:Island Seniors
END:VEVENT
BEGIN:VEVENT
DTSTART;TZID=America/New_York:20221012T093000
DTEND;TZID=America/New_York:20221012T103000
DTSTAMP:20260425T101323
CREATED:20220725T185430Z
LAST-MODIFIED:20220908T212849Z
UID:10004113-1665567000-1665570600@santivachronicle.com
SUMMARY:SCH: Aerobics
DESCRIPTION:Aerobics with Mahnaz Bassiri\, one class is offered. Bring your own weights (optional). The cost is $5 for members or $10 for guests per class. \nShare this:\n				Email a link to a friend (Opens in new window)\n				Email\n			\n				Share on Facebook (Opens in new window)\n				Facebook\n			\n				Share on X (Opens in new window)\n				X\n			\n				Print (Opens in new window)\n				Print
URL:https://santivachronicle.com/event/sch-aerobics/2022-10-12/
LOCATION:Sanibel Community House\, 2173 Periwinkle Way\, Sanibel\, Florida\, 33957
CATEGORIES:Exercise
END:VEVENT
BEGIN:VEVENT
DTSTART;TZID=America/New_York:20221012T090000
DTEND;TZID=America/New_York:20221012T143000
DTSTAMP:20260425T101323
CREATED:20220921T172454Z
LAST-MODIFIED:20220921T172454Z
UID:10004201-1665565200-1665585000@santivachronicle.com
SUMMARY:Island Seniors: Farmer Joe's Market Tour
DESCRIPTION:Tour starts at 10am / Van riders meet at Rec Center at 9am $5 members/ $10 non-members \nJoin us for a closer look at the newest farmer-friendly store in town! Farmer Joe’s in Cape Coral provides a variety of locally grown\nproduce in a traditional barn-style setting with departments ranging from butcher to bakery. We will sample some of their custom gourmet specialties and stop by their full-service cafe or juice bar for a cool treat! Plenty of time to wander around after the tour. You are welcome to drive yourself and meet us there at 9:45 a.m. or reserve your van seat with Dave or Jessica at 239-472-0345 Ext. 711. Van seating is limited to 10 \nShare this:\n				Email a link to a friend (Opens in new window)\n				Email\n			\n				Share on Facebook (Opens in new window)\n				Facebook\n			\n				Share on X (Opens in new window)\n				X\n			\n				Print (Opens in new window)\n				Print
URL:https://santivachronicle.com/event/island-seniors-farmer-joes-market-tour/
LOCATION:Farmer Joe’s Market\, 1401 SW Pine Island Rd\, Cape Coral\, Fla\, 33991
CATEGORIES:Island Seniors
END:VEVENT
BEGIN:VEVENT
DTSTART;TZID=America/New_York:20221011T143000
DTEND;TZID=America/New_York:20221011T153000
DTSTAMP:20260425T101323
CREATED:20220908T212616Z
LAST-MODIFIED:20220908T212616Z
UID:10004179-1665498600-1665502200@santivachronicle.com
SUMMARY:Island Seniors: Page Turners Book Club
DESCRIPTION:Page Turners will meet in person in the Osprey Room at the Sanibel Recreation Center as well as Zoom. Contact Book club leader Louise Fitzgerald for current book selections at Sanibelbum22@gmail.com. \nShare this:\n				Email a link to a friend (Opens in new window)\n				Email\n			\n				Share on Facebook (Opens in new window)\n				Facebook\n			\n				Share on X (Opens in new window)\n				X\n			\n				Print (Opens in new window)\n				Print
URL:https://santivachronicle.com/event/island-seniors-page-turners-book-club-3/2022-10-11/
LOCATION:Sanibel Recreation Center\, 3880 Sanibel Captiva Rd\, Sanibel\, FL\, 33957\, United States
CATEGORIES:Island Seniors
END:VEVENT
BEGIN:VEVENT
DTSTART;TZID=America/New_York:20221011T093000
DTEND;TZID=America/New_York:20221011T103000
DTSTAMP:20260425T101323
CREATED:20220725T184105Z
LAST-MODIFIED:20220908T210914Z
UID:10004037-1665480600-1665484200@santivachronicle.com
SUMMARY:Island Seniors: Gentle Yoga
DESCRIPTION:Island Senior Inc member fee is $4.10. Rec Center members no charge but must show valid member card to participate. Visitor fees available. \nShare this:\n				Email a link to a friend (Opens in new window)\n				Email\n			\n				Share on Facebook (Opens in new window)\n				Facebook\n			\n				Share on X (Opens in new window)\n				X\n			\n				Print (Opens in new window)\n				Print
URL:https://santivachronicle.com/event/island-seniors-gentle-yoga/2022-10-11/
LOCATION:Sanibel Recreation Center\, 3880 Sanibel Captiva Rd\, Sanibel\, FL\, 33957\, United States
CATEGORIES:Island Seniors
END:VEVENT
BEGIN:VEVENT
DTSTART;TZID=America/New_York:20221010T093000
DTEND;TZID=America/New_York:20221010T103000
DTSTAMP:20260425T101323
CREATED:20220725T185430Z
LAST-MODIFIED:20220908T212849Z
UID:10004112-1665394200-1665397800@santivachronicle.com
SUMMARY:SCH: Aerobics
DESCRIPTION:Aerobics with Mahnaz Bassiri\, one class is offered. Bring your own weights (optional). The cost is $5 for members or $10 for guests per class. \nShare this:\n				Email a link to a friend (Opens in new window)\n				Email\n			\n				Share on Facebook (Opens in new window)\n				Facebook\n			\n				Share on X (Opens in new window)\n				X\n			\n				Print (Opens in new window)\n				Print
URL:https://santivachronicle.com/event/sch-aerobics/2022-10-10/
LOCATION:Sanibel Community House\, 2173 Periwinkle Way\, Sanibel\, Florida\, 33957
CATEGORIES:Exercise
END:VEVENT
BEGIN:VEVENT
DTSTART;TZID=America/New_York:20221010T090000
DTEND;TZID=America/New_York:20221010T130000
DTSTAMP:20260425T101323
CREATED:20220725T185221Z
LAST-MODIFIED:20220908T212726Z
UID:10004076-1665392400-1665406800@santivachronicle.com
SUMMARY:SCH: Shellcrafters
DESCRIPTION:Observe these artists at work. The class is free; participants pay for supply costs starting at $5. \nShare this:\n				Email a link to a friend (Opens in new window)\n				Email\n			\n				Share on Facebook (Opens in new window)\n				Facebook\n			\n				Share on X (Opens in new window)\n				X\n			\n				Print (Opens in new window)\n				Print
URL:https://santivachronicle.com/event/sch-shellcrafters/2022-10-10/
LOCATION:Sanibel Community House\, 2173 Periwinkle Way\, Sanibel\, Florida\, 33957
CATEGORIES:Arts & Culture
END:VEVENT
BEGIN:VEVENT
DTSTART;TZID=America/New_York:20221007T093000
DTEND;TZID=America/New_York:20221007T103000
DTSTAMP:20260425T101323
CREATED:20220725T185430Z
LAST-MODIFIED:20220908T212849Z
UID:10004111-1665135000-1665138600@santivachronicle.com
SUMMARY:SCH: Aerobics
DESCRIPTION:Aerobics with Mahnaz Bassiri\, one class is offered. Bring your own weights (optional). The cost is $5 for members or $10 for guests per class. \nShare this:\n				Email a link to a friend (Opens in new window)\n				Email\n			\n				Share on Facebook (Opens in new window)\n				Facebook\n			\n				Share on X (Opens in new window)\n				X\n			\n				Print (Opens in new window)\n				Print
URL:https://santivachronicle.com/event/sch-aerobics/2022-10-07/
LOCATION:Sanibel Community House\, 2173 Periwinkle Way\, Sanibel\, Florida\, 33957
CATEGORIES:Exercise
END:VEVENT
BEGIN:VEVENT
DTSTART;TZID=America/New_York:20221007T063000
DTEND;TZID=America/New_York:20221007T080000
DTSTAMP:20260425T101323
CREATED:20220921T201354Z
LAST-MODIFIED:20220921T201354Z
UID:10004207-1665124200-1665129600@santivachronicle.com
SUMMARY:SanCap Rotary Club Meeting
DESCRIPTION:Share this:\n				Email a link to a friend (Opens in new window)\n				Email\n			\n				Share on Facebook (Opens in new window)\n				Facebook\n			\n				Share on X (Opens in new window)\n				X\n			\n				Print (Opens in new window)\n				Print
URL:https://santivachronicle.com/event/sancap-rotary-club-meeting/2022-10-07/
LOCATION:Sanibel Community House\, 2173 Periwinkle Way\, Sanibel\, Florida\, 33957
CATEGORIES:Clubs
END:VEVENT
BEGIN:VEVENT
DTSTART;TZID=America/New_York:20221006T130000
DTEND;TZID=America/New_York:20221006T140000
DTSTAMP:20260425T101323
CREATED:20220725T185603Z
LAST-MODIFIED:20220908T213105Z
UID:10004131-1665061200-1665064800@santivachronicle.com
SUMMARY:SCH: Chair Stretching
DESCRIPTION:Chair Stretching Exercises with Mahnaz Bassiri\n$10 for members or $15 for guests per class. \nShare this:\n				Email a link to a friend (Opens in new window)\n				Email\n			\n				Share on Facebook (Opens in new window)\n				Facebook\n			\n				Share on X (Opens in new window)\n				X\n			\n				Print (Opens in new window)\n				Print
URL:https://santivachronicle.com/event/sch-chair-stretching/2022-10-06/
LOCATION:Sanibel Community House\, 2173 Periwinkle Way\, Sanibel\, Florida\, 33957
CATEGORIES:Exercise
END:VEVENT
BEGIN:VEVENT
DTSTART;TZID=America/New_York:20221006T093000
DTEND;TZID=America/New_York:20221006T103000
DTSTAMP:20260425T101323
CREATED:20220725T184105Z
LAST-MODIFIED:20220908T210914Z
UID:10004036-1665048600-1665052200@santivachronicle.com
SUMMARY:Island Seniors: Gentle Yoga
DESCRIPTION:Island Senior Inc member fee is $4.10. Rec Center members no charge but must show valid member card to participate. Visitor fees available. \nShare this:\n				Email a link to a friend (Opens in new window)\n				Email\n			\n				Share on Facebook (Opens in new window)\n				Facebook\n			\n				Share on X (Opens in new window)\n				X\n			\n				Print (Opens in new window)\n				Print
URL:https://santivachronicle.com/event/island-seniors-gentle-yoga/2022-10-06/
LOCATION:Sanibel Recreation Center\, 3880 Sanibel Captiva Rd\, Sanibel\, FL\, 33957\, United States
CATEGORIES:Island Seniors
END:VEVENT
BEGIN:VEVENT
DTSTART;TZID=America/New_York:20221005T093000
DTEND;TZID=America/New_York:20221005T110000
DTSTAMP:20260425T101323
CREATED:20220908T210753Z
LAST-MODIFIED:20220908T210753Z
UID:10004170-1664962200-1664967600@santivachronicle.com
SUMMARY:Island Seniors: Balance-Core Strength Aerobics
DESCRIPTION:Island Senior Inc member fee $4.10. Rec Center members no charge but must show valid member card to participate. Visitor fees available. \nShare this:\n				Email a link to a friend (Opens in new window)\n				Email\n			\n				Share on Facebook (Opens in new window)\n				Facebook\n			\n				Share on X (Opens in new window)\n				X\n			\n				Print (Opens in new window)\n				Print
URL:https://santivachronicle.com/event/island-seniors-balance-core-strength-aerobics/2022-10-05/
LOCATION:Sanibel Recreation Center\, 3880 Sanibel Captiva Rd\, Sanibel\, FL\, 33957\, United States
CATEGORIES:Island Seniors
END:VEVENT
BEGIN:VEVENT
DTSTART;TZID=America/New_York:20221005T093000
DTEND;TZID=America/New_York:20221005T103000
DTSTAMP:20260425T101323
CREATED:20220725T185430Z
LAST-MODIFIED:20220908T212849Z
UID:10004110-1664962200-1664965800@santivachronicle.com
SUMMARY:SCH: Aerobics
DESCRIPTION:Aerobics with Mahnaz Bassiri\, one class is offered. Bring your own weights (optional). The cost is $5 for members or $10 for guests per class. \nShare this:\n				Email a link to a friend (Opens in new window)\n				Email\n			\n				Share on Facebook (Opens in new window)\n				Facebook\n			\n				Share on X (Opens in new window)\n				X\n			\n				Print (Opens in new window)\n				Print
URL:https://santivachronicle.com/event/sch-aerobics/2022-10-05/
LOCATION:Sanibel Community House\, 2173 Periwinkle Way\, Sanibel\, Florida\, 33957
CATEGORIES:Exercise
END:VEVENT
BEGIN:VEVENT
DTSTART;TZID=America/New_York:20221004T130000
DTEND;TZID=America/New_York:20221004T143000
DTSTAMP:20260425T101323
CREATED:20220921T201204Z
LAST-MODIFIED:20220921T201204Z
UID:10004204-1664888400-1664893800@santivachronicle.com
SUMMARY:(SCH) Dealing With Breast Cancer Class
DESCRIPTION:Learn breathing and grounding exercises to deal with the stress and learn how to confront and deal with the fear. Questions and answers will follow the class. \nShare this:\n				Email a link to a friend (Opens in new window)\n				Email\n			\n				Share on Facebook (Opens in new window)\n				Facebook\n			\n				Share on X (Opens in new window)\n				X\n			\n				Print (Opens in new window)\n				Print
URL:https://santivachronicle.com/event/sch-dealing-with-breast-cancer-class/
LOCATION:Sanibel Community House\, 2173 Periwinkle Way\, Sanibel\, Florida\, 33957
CATEGORIES:Health
END:VEVENT
BEGIN:VEVENT
DTSTART;TZID=America/New_York:20221004T093000
DTEND;TZID=America/New_York:20221004T103000
DTSTAMP:20260425T101323
CREATED:20220725T184105Z
LAST-MODIFIED:20220908T210914Z
UID:10004035-1664875800-1664879400@santivachronicle.com
SUMMARY:Island Seniors: Gentle Yoga
DESCRIPTION:Island Senior Inc member fee is $4.10. Rec Center members no charge but must show valid member card to participate. Visitor fees available. \nShare this:\n				Email a link to a friend (Opens in new window)\n				Email\n			\n				Share on Facebook (Opens in new window)\n				Facebook\n			\n				Share on X (Opens in new window)\n				X\n			\n				Print (Opens in new window)\n				Print
URL:https://santivachronicle.com/event/island-seniors-gentle-yoga/2022-10-04/
LOCATION:Sanibel Recreation Center\, 3880 Sanibel Captiva Rd\, Sanibel\, FL\, 33957\, United States
CATEGORIES:Island Seniors
END:VEVENT
END:VCALENDAR