BEGIN:VCALENDAR
VERSION:2.0
PRODID:-//Santiva Chronicle - ECPv6.15.20//NONSGML v1.0//EN
CALSCALE:GREGORIAN
METHOD:PUBLISH
X-WR-CALNAME:Santiva Chronicle
X-ORIGINAL-URL:https://santivachronicle.com
X-WR-CALDESC:Events for Santiva Chronicle
REFRESH-INTERVAL;VALUE=DURATION:PT1H
X-Robots-Tag:noindex
X-PUBLISHED-TTL:PT1H
BEGIN:VTIMEZONE
TZID:America/New_York
BEGIN:DAYLIGHT
TZOFFSETFROM:-0500
TZOFFSETTO:-0400
TZNAME:EDT
DTSTART:20240310T070000
END:DAYLIGHT
BEGIN:STANDARD
TZOFFSETFROM:-0400
TZOFFSETTO:-0500
TZNAME:EST
DTSTART:20241103T060000
END:STANDARD
BEGIN:DAYLIGHT
TZOFFSETFROM:-0500
TZOFFSETTO:-0400
TZNAME:EDT
DTSTART:20250309T070000
END:DAYLIGHT
BEGIN:STANDARD
TZOFFSETFROM:-0400
TZOFFSETTO:-0500
TZNAME:EST
DTSTART:20251102T060000
END:STANDARD
BEGIN:DAYLIGHT
TZOFFSETFROM:-0500
TZOFFSETTO:-0400
TZNAME:EDT
DTSTART:20260308T070000
END:DAYLIGHT
BEGIN:STANDARD
TZOFFSETFROM:-0400
TZOFFSETTO:-0500
TZNAME:EST
DTSTART:20261101T060000
END:STANDARD
BEGIN:DAYLIGHT
TZOFFSETFROM:-0500
TZOFFSETTO:-0400
TZNAME:EDT
DTSTART:20270314T070000
END:DAYLIGHT
BEGIN:STANDARD
TZOFFSETFROM:-0400
TZOFFSETTO:-0500
TZNAME:EST
DTSTART:20271107T060000
END:STANDARD
END:VTIMEZONE
BEGIN:VEVENT
DTSTART;TZID=America/New_York:20260207T110000
DTEND;TZID=America/New_York:20260207T120000
DTSTAMP:20260425T072227
CREATED:20260124T214931Z
LAST-MODIFIED:20260124T214931Z
UID:10004909-1770462000-1770465600@santivachronicle.com
SUMMARY:Author Michelle D. Gladieux
DESCRIPTION:The Sanibel Public Library District and the Charitable Foundation of the Islands have partnered to offer a free lifelong learning opportunity for the Sanibel and Captiva community: Chat with an Author: Michelle D. Gladieux. Registration is required and available at sanlib.org/calendar. \nLed by communication expert and author Michelle D. Gladieux\, the interactive session will focus on helping participants become braver\, more effective communicators. Drawing from her book\, Communicate with Courage\, Gladieux will share practical strategies to overcome four hidden challenges that often hinder everyday communication and workplace interactions. \nAs part of the event\, copies of Communicate with Courage will be gifted to the first 50 registered attendees. This program is free and open to the public and is part of an ongoing collaboration between the Sanibel Public Library District and the Charitable Foundation of the Islands to provide meaningful educational opportunities that enrich the Island community.
URL:https://santivachronicle.com/event/author-michelle-d-gladieux/
LOCATION:Sanibel Public Library\, 770 Dunlop Rd\, Sanibel\, FL\, 33957\, United States
CATEGORIES:Sanibel Library
ATTACH;FMTTYPE=image/jpeg:https://santivachronicle.com/wp-content/uploads/2026/01/Gladieux-headshot.jpg
END:VEVENT
BEGIN:VEVENT
DTSTART;TZID=America/New_York:20250116T160000
DTEND;TZID=America/New_York:20250116T190000
DTSTAMP:20260425T072227
CREATED:20241221T165617Z
LAST-MODIFIED:20241224T153336Z
UID:10004888-1737043200-1737054000@santivachronicle.com
SUMMARY:CFI Volunteer Expo
DESCRIPTION:The Expo is organized by Charitable Foundation of the Islands and powered by the Pfeifer Realty Group\, the presenting sponsor. The event runs from 4 to 7 p.m. at the Sanibel Community House. Island organizations will present their missions and programs with the goal of sparking interest in volunteering among those who attend. Online registration is open on Eventbrite here. 
URL:https://santivachronicle.com/event/cfi-volunteer-expo/
LOCATION:Sanibel Community House\, 2173 Periwinkle Way\, Sanibel\, Florida\, 33957
CATEGORIES:Community
ATTACH;FMTTYPE=image/jpeg:https://santivachronicle.com/wp-content/uploads/2024/12/CFI-volunteer-expo-logo-2025.jpg
END:VEVENT
END:VCALENDAR