BEGIN:VCALENDAR
VERSION:2.0
PRODID:-//Santiva Chronicle - ECPv6.15.20//NONSGML v1.0//EN
CALSCALE:GREGORIAN
METHOD:PUBLISH
X-WR-CALNAME:Santiva Chronicle
X-ORIGINAL-URL:https://santivachronicle.com
X-WR-CALDESC:Events for Santiva Chronicle
REFRESH-INTERVAL;VALUE=DURATION:PT1H
X-Robots-Tag:noindex
X-PUBLISHED-TTL:PT1H
BEGIN:VTIMEZONE
TZID:America/New_York
BEGIN:DAYLIGHT
TZOFFSETFROM:-0500
TZOFFSETTO:-0400
TZNAME:EDT
DTSTART:20210314T070000
END:DAYLIGHT
BEGIN:STANDARD
TZOFFSETFROM:-0400
TZOFFSETTO:-0500
TZNAME:EST
DTSTART:20211107T060000
END:STANDARD
BEGIN:DAYLIGHT
TZOFFSETFROM:-0500
TZOFFSETTO:-0400
TZNAME:EDT
DTSTART:20220313T070000
END:DAYLIGHT
BEGIN:STANDARD
TZOFFSETFROM:-0400
TZOFFSETTO:-0500
TZNAME:EST
DTSTART:20221106T060000
END:STANDARD
BEGIN:DAYLIGHT
TZOFFSETFROM:-0500
TZOFFSETTO:-0400
TZNAME:EDT
DTSTART:20230312T070000
END:DAYLIGHT
BEGIN:STANDARD
TZOFFSETFROM:-0400
TZOFFSETTO:-0500
TZNAME:EST
DTSTART:20231105T060000
END:STANDARD
BEGIN:DAYLIGHT
TZOFFSETFROM:-0500
TZOFFSETTO:-0400
TZNAME:EDT
DTSTART:20240310T070000
END:DAYLIGHT
BEGIN:STANDARD
TZOFFSETFROM:-0400
TZOFFSETTO:-0500
TZNAME:EST
DTSTART:20241103T060000
END:STANDARD
BEGIN:DAYLIGHT
TZOFFSETFROM:-0500
TZOFFSETTO:-0400
TZNAME:EDT
DTSTART:20250309T070000
END:DAYLIGHT
BEGIN:STANDARD
TZOFFSETFROM:-0400
TZOFFSETTO:-0500
TZNAME:EST
DTSTART:20251102T060000
END:STANDARD
BEGIN:DAYLIGHT
TZOFFSETFROM:-0500
TZOFFSETTO:-0400
TZNAME:EDT
DTSTART:20260308T070000
END:DAYLIGHT
BEGIN:STANDARD
TZOFFSETFROM:-0400
TZOFFSETTO:-0500
TZNAME:EST
DTSTART:20261101T060000
END:STANDARD
BEGIN:DAYLIGHT
TZOFFSETFROM:-0500
TZOFFSETTO:-0400
TZNAME:EDT
DTSTART:20270314T070000
END:DAYLIGHT
BEGIN:STANDARD
TZOFFSETFROM:-0400
TZOFFSETTO:-0500
TZNAME:EST
DTSTART:20271107T060000
END:STANDARD
END:VTIMEZONE
BEGIN:VEVENT
DTSTART;TZID=America/New_York:20260222T090000
DTEND;TZID=America/New_York:20260222T140000
DTSTAMP:20260423T072905
CREATED:20260128T182017Z
LAST-MODIFIED:20260128T182232Z
UID:10004913-1771750800-1771768800@santivachronicle.com
SUMMARY:February Arts & Crafts Fair
DESCRIPTION:Sanibel’s Community House is hosting an Arts & Crafts Fair featuring a delightful variety of original art and handmade items\, including: paintings and prints in a variety of sizes and media\, pottery\, greeting cards\, shell crafts\, jewelry\, hand-sewn decorations & pillows\, handcrafted baskets\, purses\, glass and resin artwork\, wildlife photography\, Sanibel decor and gifts\, and delicious baked goods. \nThis month\, there will be more than 30 artists situated indoors. The Community House’s Shell Crafters will also be offering shell bouquets and other beautiful shell creations. \nFree admission and parking.
URL:https://santivachronicle.com/event/february-arts-crafts-fair/
LOCATION:Sanibel Community House\, 2173 Periwinkle Way\, Sanibel\, Florida\, 33957
CATEGORIES:Arts & Culture
ATTACH;FMTTYPE=image/png:https://santivachronicle.com/wp-content/uploads/2026/01/SCA-Feb-AC-Fair-crop.png
END:VEVENT
BEGIN:VEVENT
DTSTART;TZID=America/New_York:20260111T090000
DTEND;TZID=America/New_York:20260111T140000
DTSTAMP:20260423T072905
CREATED:20260107T210553Z
LAST-MODIFIED:20260107T210849Z
UID:10004902-1768122000-1768140000@santivachronicle.com
SUMMARY:Arts & Crafts Fair
DESCRIPTION:Displayed for sale will be a delightful variety of original art and handmade items\, including paintings and art prints\, ceramics\, glasswork\, greeting cards\, shell crafts\, jewelry\, hand-sewn accessories\, photography\, Sanibel decor and gifts\, and baked goods. Over 30 local artists will be situated indoors at the Community House. The Community House’s Shell Crafters will also be offering shell bouquets and other beautiful shell creations. \nFree admission and parking.
URL:https://santivachronicle.com/event/arts-crafts-fair-6/
LOCATION:Sanibel Community House\, 2173 Periwinkle Way\, Sanibel\, Florida\, 33957
CATEGORIES:Arts & Culture
ATTACH;FMTTYPE=image/png:https://santivachronicle.com/wp-content/uploads/2026/01/calendar-feature-artscrafts-1.7.26.png
END:VEVENT
BEGIN:VEVENT
DTSTART;TZID=America/New_York:20230930T140000
DTEND;TZID=America/New_York:20230930T170000
DTSTAMP:20260423T072905
CREATED:20230917T004205Z
LAST-MODIFIED:20230917T004205Z
UID:10004831-1696082400-1696093200@santivachronicle.com
SUMMARY:Community Reunited
DESCRIPTION:Ice cream social featuring Sanibel’s Best Homemade Ice Cream and The Shack of Sanibel Fresh Frozen Custard (free of charge) \nCooking baking contest \nLive music by the Sanibel School Steel Drum Band \nEagle Scout Project reveal by Ryan Powers \nFun community art project \nThe community can unite a year after Hurricane Ian to socialize and support neighbors and friends.
URL:https://santivachronicle.com/event/community-reunited/
LOCATION:Sanibel Community House\, 2173 Periwinkle Way\, Sanibel\, Florida\, 33957
CATEGORIES:Community
END:VEVENT
BEGIN:VEVENT
DTSTART;TZID=America/New_York:20221122T090000
DTEND;TZID=America/New_York:20221122T090000
DTSTAMP:20260423T072905
CREATED:20220908T213915Z
LAST-MODIFIED:20220908T214006Z
UID:10004186-1669107600-1669107600@santivachronicle.com
SUMMARY:SCH: Memory Cafe
DESCRIPTION:The Interfaith Group AKA Memory Café meets on the 4th Tuesday of the month at 9:00 a.m. No reservation needed\, come and join the discussion on Tues Sept 27.
URL:https://santivachronicle.com/event/sch-memory-cafe/2022-11-22/
LOCATION:Sanibel Community House\, 2173 Periwinkle Way\, Sanibel\, Florida\, 33957
CATEGORIES:Religion
END:VEVENT
BEGIN:VEVENT
DTSTART;TZID=America/New_York:20221031T093000
DTEND;TZID=America/New_York:20221031T103000
DTSTAMP:20260423T072905
CREATED:20220725T185430Z
LAST-MODIFIED:20220908T212849Z
UID:10004121-1667208600-1667212200@santivachronicle.com
SUMMARY:SCH: Aerobics
DESCRIPTION:Aerobics with Mahnaz Bassiri\, one class is offered. Bring your own weights (optional). The cost is $5 for members or $10 for guests per class.
URL:https://santivachronicle.com/event/sch-aerobics/2022-10-31/
LOCATION:Sanibel Community House\, 2173 Periwinkle Way\, Sanibel\, Florida\, 33957
CATEGORIES:Exercise
END:VEVENT
BEGIN:VEVENT
DTSTART;TZID=America/New_York:20221031T090000
DTEND;TZID=America/New_York:20221031T130000
DTSTAMP:20260423T072905
CREATED:20220725T185221Z
LAST-MODIFIED:20220908T212726Z
UID:10004079-1667206800-1667221200@santivachronicle.com
SUMMARY:SCH: Shellcrafters
DESCRIPTION:Observe these artists at work. The class is free; participants pay for supply costs starting at $5.
URL:https://santivachronicle.com/event/sch-shellcrafters/2022-10-31/
LOCATION:Sanibel Community House\, 2173 Periwinkle Way\, Sanibel\, Florida\, 33957
CATEGORIES:Arts & Culture
END:VEVENT
BEGIN:VEVENT
DTSTART;TZID=America/New_York:20221028T093000
DTEND;TZID=America/New_York:20221028T103000
DTSTAMP:20260423T072905
CREATED:20220725T185430Z
LAST-MODIFIED:20220908T212849Z
UID:10004120-1666949400-1666953000@santivachronicle.com
SUMMARY:SCH: Aerobics
DESCRIPTION:Aerobics with Mahnaz Bassiri\, one class is offered. Bring your own weights (optional). The cost is $5 for members or $10 for guests per class.
URL:https://santivachronicle.com/event/sch-aerobics/2022-10-28/
LOCATION:Sanibel Community House\, 2173 Periwinkle Way\, Sanibel\, Florida\, 33957
CATEGORIES:Exercise
END:VEVENT
BEGIN:VEVENT
DTSTART;TZID=America/New_York:20221026T093000
DTEND;TZID=America/New_York:20221026T103000
DTSTAMP:20260423T072905
CREATED:20220725T185430Z
LAST-MODIFIED:20220908T212849Z
UID:10004119-1666776600-1666780200@santivachronicle.com
SUMMARY:SCH: Aerobics
DESCRIPTION:Aerobics with Mahnaz Bassiri\, one class is offered. Bring your own weights (optional). The cost is $5 for members or $10 for guests per class.
URL:https://santivachronicle.com/event/sch-aerobics/2022-10-26/
LOCATION:Sanibel Community House\, 2173 Periwinkle Way\, Sanibel\, Florida\, 33957
CATEGORIES:Exercise
END:VEVENT
BEGIN:VEVENT
DTSTART;TZID=America/New_York:20221025T090000
DTEND;TZID=America/New_York:20221025T090000
DTSTAMP:20260423T072905
CREATED:20220908T213915Z
LAST-MODIFIED:20220908T214006Z
UID:10004185-1666688400-1666688400@santivachronicle.com
SUMMARY:SCH: Memory Cafe
DESCRIPTION:The Interfaith Group AKA Memory Café meets on the 4th Tuesday of the month at 9:00 a.m. No reservation needed\, come and join the discussion on Tues Sept 27.
URL:https://santivachronicle.com/event/sch-memory-cafe/2022-10-25/
LOCATION:Sanibel Community House\, 2173 Periwinkle Way\, Sanibel\, Florida\, 33957
CATEGORIES:Religion
END:VEVENT
BEGIN:VEVENT
DTSTART;TZID=America/New_York:20221024T093000
DTEND;TZID=America/New_York:20221024T103000
DTSTAMP:20260423T072905
CREATED:20220725T185430Z
LAST-MODIFIED:20220908T212849Z
UID:10004118-1666603800-1666607400@santivachronicle.com
SUMMARY:SCH: Aerobics
DESCRIPTION:Aerobics with Mahnaz Bassiri\, one class is offered. Bring your own weights (optional). The cost is $5 for members or $10 for guests per class.
URL:https://santivachronicle.com/event/sch-aerobics/2022-10-24/
LOCATION:Sanibel Community House\, 2173 Periwinkle Way\, Sanibel\, Florida\, 33957
CATEGORIES:Exercise
END:VEVENT
BEGIN:VEVENT
DTSTART;TZID=America/New_York:20221024T090000
DTEND;TZID=America/New_York:20221024T130000
DTSTAMP:20260423T072905
CREATED:20220725T185221Z
LAST-MODIFIED:20220908T212726Z
UID:10004078-1666602000-1666616400@santivachronicle.com
SUMMARY:SCH: Shellcrafters
DESCRIPTION:Observe these artists at work. The class is free; participants pay for supply costs starting at $5.
URL:https://santivachronicle.com/event/sch-shellcrafters/2022-10-24/
LOCATION:Sanibel Community House\, 2173 Periwinkle Way\, Sanibel\, Florida\, 33957
CATEGORIES:Arts & Culture
END:VEVENT
BEGIN:VEVENT
DTSTART;TZID=America/New_York:20221023T090000
DTEND;TZID=America/New_York:20221023T090000
DTSTAMP:20260423T072905
CREATED:20220908T214300Z
LAST-MODIFIED:20220908T214300Z
UID:10004187-1666515600-1666515600@santivachronicle.com
SUMMARY:SCH: Arts & Crafts Fair
DESCRIPTION:
URL:https://santivachronicle.com/event/sch-arts-crafts-fair/
LOCATION:Sanibel Community House\, 2173 Periwinkle Way\, Sanibel\, Florida\, 33957
CATEGORIES:Arts & Culture
END:VEVENT
BEGIN:VEVENT
DTSTART;TZID=America/New_York:20221021T093000
DTEND;TZID=America/New_York:20221021T103000
DTSTAMP:20260423T072905
CREATED:20220725T185430Z
LAST-MODIFIED:20220908T212849Z
UID:10004117-1666344600-1666348200@santivachronicle.com
SUMMARY:SCH: Aerobics
DESCRIPTION:Aerobics with Mahnaz Bassiri\, one class is offered. Bring your own weights (optional). The cost is $5 for members or $10 for guests per class.
URL:https://santivachronicle.com/event/sch-aerobics/2022-10-21/
LOCATION:Sanibel Community House\, 2173 Periwinkle Way\, Sanibel\, Florida\, 33957
CATEGORIES:Exercise
END:VEVENT
BEGIN:VEVENT
DTSTART;TZID=America/New_York:20221019T093000
DTEND;TZID=America/New_York:20221019T103000
DTSTAMP:20260423T072905
CREATED:20220725T185430Z
LAST-MODIFIED:20220908T212849Z
UID:10004116-1666171800-1666175400@santivachronicle.com
SUMMARY:SCH: Aerobics
DESCRIPTION:Aerobics with Mahnaz Bassiri\, one class is offered. Bring your own weights (optional). The cost is $5 for members or $10 for guests per class.
URL:https://santivachronicle.com/event/sch-aerobics/2022-10-19/
LOCATION:Sanibel Community House\, 2173 Periwinkle Way\, Sanibel\, Florida\, 33957
CATEGORIES:Exercise
END:VEVENT
BEGIN:VEVENT
DTSTART;TZID=America/New_York:20221017T093000
DTEND;TZID=America/New_York:20221017T103000
DTSTAMP:20260423T072905
CREATED:20220725T185430Z
LAST-MODIFIED:20220908T212849Z
UID:10004115-1665999000-1666002600@santivachronicle.com
SUMMARY:SCH: Aerobics
DESCRIPTION:Aerobics with Mahnaz Bassiri\, one class is offered. Bring your own weights (optional). The cost is $5 for members or $10 for guests per class.
URL:https://santivachronicle.com/event/sch-aerobics/2022-10-17/
LOCATION:Sanibel Community House\, 2173 Periwinkle Way\, Sanibel\, Florida\, 33957
CATEGORIES:Exercise
END:VEVENT
BEGIN:VEVENT
DTSTART;TZID=America/New_York:20221017T090000
DTEND;TZID=America/New_York:20221017T130000
DTSTAMP:20260423T072905
CREATED:20220725T185221Z
LAST-MODIFIED:20220908T212726Z
UID:10004077-1665997200-1666011600@santivachronicle.com
SUMMARY:SCH: Shellcrafters
DESCRIPTION:Observe these artists at work. The class is free; participants pay for supply costs starting at $5.
URL:https://santivachronicle.com/event/sch-shellcrafters/2022-10-17/
LOCATION:Sanibel Community House\, 2173 Periwinkle Way\, Sanibel\, Florida\, 33957
CATEGORIES:Arts & Culture
END:VEVENT
BEGIN:VEVENT
DTSTART;TZID=America/New_York:20221014T093000
DTEND;TZID=America/New_York:20221014T103000
DTSTAMP:20260423T072905
CREATED:20220725T185430Z
LAST-MODIFIED:20220908T212849Z
UID:10004114-1665739800-1665743400@santivachronicle.com
SUMMARY:SCH: Aerobics
DESCRIPTION:Aerobics with Mahnaz Bassiri\, one class is offered. Bring your own weights (optional). The cost is $5 for members or $10 for guests per class.
URL:https://santivachronicle.com/event/sch-aerobics/2022-10-14/
LOCATION:Sanibel Community House\, 2173 Periwinkle Way\, Sanibel\, Florida\, 33957
CATEGORIES:Exercise
END:VEVENT
BEGIN:VEVENT
DTSTART;TZID=America/New_York:20221012T093000
DTEND;TZID=America/New_York:20221012T103000
DTSTAMP:20260423T072905
CREATED:20220725T185430Z
LAST-MODIFIED:20220908T212849Z
UID:10004113-1665567000-1665570600@santivachronicle.com
SUMMARY:SCH: Aerobics
DESCRIPTION:Aerobics with Mahnaz Bassiri\, one class is offered. Bring your own weights (optional). The cost is $5 for members or $10 for guests per class.
URL:https://santivachronicle.com/event/sch-aerobics/2022-10-12/
LOCATION:Sanibel Community House\, 2173 Periwinkle Way\, Sanibel\, Florida\, 33957
CATEGORIES:Exercise
END:VEVENT
BEGIN:VEVENT
DTSTART;TZID=America/New_York:20221010T093000
DTEND;TZID=America/New_York:20221010T103000
DTSTAMP:20260423T072905
CREATED:20220725T185430Z
LAST-MODIFIED:20220908T212849Z
UID:10004112-1665394200-1665397800@santivachronicle.com
SUMMARY:SCH: Aerobics
DESCRIPTION:Aerobics with Mahnaz Bassiri\, one class is offered. Bring your own weights (optional). The cost is $5 for members or $10 for guests per class.
URL:https://santivachronicle.com/event/sch-aerobics/2022-10-10/
LOCATION:Sanibel Community House\, 2173 Periwinkle Way\, Sanibel\, Florida\, 33957
CATEGORIES:Exercise
END:VEVENT
BEGIN:VEVENT
DTSTART;TZID=America/New_York:20221010T090000
DTEND;TZID=America/New_York:20221010T130000
DTSTAMP:20260423T072905
CREATED:20220725T185221Z
LAST-MODIFIED:20220908T212726Z
UID:10004076-1665392400-1665406800@santivachronicle.com
SUMMARY:SCH: Shellcrafters
DESCRIPTION:Observe these artists at work. The class is free; participants pay for supply costs starting at $5.
URL:https://santivachronicle.com/event/sch-shellcrafters/2022-10-10/
LOCATION:Sanibel Community House\, 2173 Periwinkle Way\, Sanibel\, Florida\, 33957
CATEGORIES:Arts & Culture
END:VEVENT
BEGIN:VEVENT
DTSTART;TZID=America/New_York:20221007T093000
DTEND;TZID=America/New_York:20221007T103000
DTSTAMP:20260423T072905
CREATED:20220725T185430Z
LAST-MODIFIED:20220908T212849Z
UID:10004111-1665135000-1665138600@santivachronicle.com
SUMMARY:SCH: Aerobics
DESCRIPTION:Aerobics with Mahnaz Bassiri\, one class is offered. Bring your own weights (optional). The cost is $5 for members or $10 for guests per class.
URL:https://santivachronicle.com/event/sch-aerobics/2022-10-07/
LOCATION:Sanibel Community House\, 2173 Periwinkle Way\, Sanibel\, Florida\, 33957
CATEGORIES:Exercise
END:VEVENT
BEGIN:VEVENT
DTSTART;TZID=America/New_York:20221005T093000
DTEND;TZID=America/New_York:20221005T103000
DTSTAMP:20260423T072905
CREATED:20220725T185430Z
LAST-MODIFIED:20220908T212849Z
UID:10004110-1664962200-1664965800@santivachronicle.com
SUMMARY:SCH: Aerobics
DESCRIPTION:Aerobics with Mahnaz Bassiri\, one class is offered. Bring your own weights (optional). The cost is $5 for members or $10 for guests per class.
URL:https://santivachronicle.com/event/sch-aerobics/2022-10-05/
LOCATION:Sanibel Community House\, 2173 Periwinkle Way\, Sanibel\, Florida\, 33957
CATEGORIES:Exercise
END:VEVENT
BEGIN:VEVENT
DTSTART;TZID=America/New_York:20221004T130000
DTEND;TZID=America/New_York:20221004T143000
DTSTAMP:20260423T072905
CREATED:20220921T201204Z
LAST-MODIFIED:20220921T201204Z
UID:10004204-1664888400-1664893800@santivachronicle.com
SUMMARY:(SCH) Dealing With Breast Cancer Class
DESCRIPTION:Learn breathing and grounding exercises to deal with the stress and learn how to confront and deal with the fear. Questions and answers will follow the class.
URL:https://santivachronicle.com/event/sch-dealing-with-breast-cancer-class/
LOCATION:Sanibel Community House\, 2173 Periwinkle Way\, Sanibel\, Florida\, 33957
CATEGORIES:Health
END:VEVENT
BEGIN:VEVENT
DTSTART;TZID=America/New_York:20221003T093000
DTEND;TZID=America/New_York:20221003T103000
DTSTAMP:20260423T072905
CREATED:20220725T185430Z
LAST-MODIFIED:20220908T212849Z
UID:10004109-1664789400-1664793000@santivachronicle.com
SUMMARY:SCH: Aerobics
DESCRIPTION:Aerobics with Mahnaz Bassiri\, one class is offered. Bring your own weights (optional). The cost is $5 for members or $10 for guests per class.
URL:https://santivachronicle.com/event/sch-aerobics/2022-10-03/
LOCATION:Sanibel Community House\, 2173 Periwinkle Way\, Sanibel\, Florida\, 33957
CATEGORIES:Exercise
END:VEVENT
BEGIN:VEVENT
DTSTART;TZID=America/New_York:20221003T090000
DTEND;TZID=America/New_York:20221003T130000
DTSTAMP:20260423T072905
CREATED:20220725T185221Z
LAST-MODIFIED:20220908T212726Z
UID:10004075-1664787600-1664802000@santivachronicle.com
SUMMARY:SCH: Shellcrafters
DESCRIPTION:Observe these artists at work. The class is free; participants pay for supply costs starting at $5.
URL:https://santivachronicle.com/event/sch-shellcrafters/2022-10-03/
LOCATION:Sanibel Community House\, 2173 Periwinkle Way\, Sanibel\, Florida\, 33957
CATEGORIES:Arts & Culture
END:VEVENT
BEGIN:VEVENT
DTSTART;TZID=America/New_York:20220930T130000
DTEND;TZID=America/New_York:20220930T150000
DTSTAMP:20260423T072905
CREATED:20220725T185802Z
LAST-MODIFIED:20220826T170325Z
UID:10004143-1664542800-1664550000@santivachronicle.com
SUMMARY:Sanibel Hearts Club
DESCRIPTION:. From beginners to experts\, all are welcome. The cost is $5 to participate.
URL:https://santivachronicle.com/event/sanibel-hearts-club-6/2022-09-30/
LOCATION:Sanibel Community House\, 2173 Periwinkle Way\, Sanibel\, Florida\, 33957
CATEGORIES:Clubs
END:VEVENT
BEGIN:VEVENT
DTSTART;TZID=America/New_York:20220930T093000
DTEND;TZID=America/New_York:20220930T103000
DTSTAMP:20260423T072905
CREATED:20220725T185430Z
LAST-MODIFIED:20220908T212849Z
UID:10004108-1664530200-1664533800@santivachronicle.com
SUMMARY:SCH: Aerobics
DESCRIPTION:Aerobics with Mahnaz Bassiri\, one class is offered. Bring your own weights (optional). The cost is $5 for members or $10 for guests per class.
URL:https://santivachronicle.com/event/sch-aerobics/2022-09-30/
LOCATION:Sanibel Community House\, 2173 Periwinkle Way\, Sanibel\, Florida\, 33957
CATEGORIES:Exercise
END:VEVENT
BEGIN:VEVENT
DTSTART;TZID=America/New_York:20220928T093000
DTEND;TZID=America/New_York:20220928T103000
DTSTAMP:20260423T072905
CREATED:20220725T185430Z
LAST-MODIFIED:20220908T212849Z
UID:10004107-1664357400-1664361000@santivachronicle.com
SUMMARY:SCH: Aerobics
DESCRIPTION:Aerobics with Mahnaz Bassiri\, one class is offered. Bring your own weights (optional). The cost is $5 for members or $10 for guests per class.
URL:https://santivachronicle.com/event/sch-aerobics/2022-09-28/
LOCATION:Sanibel Community House\, 2173 Periwinkle Way\, Sanibel\, Florida\, 33957
CATEGORIES:Exercise
END:VEVENT
BEGIN:VEVENT
DTSTART;TZID=America/New_York:20220927T180000
DTEND;TZID=America/New_York:20220927T180000
DTSTAMP:20260423T072905
CREATED:20220908T213639Z
LAST-MODIFIED:20220908T213639Z
UID:10004183-1664301600-1664301600@santivachronicle.com
SUMMARY:SCH: Wine Tasting Class
DESCRIPTION:Plan on attending our next Wine Tasting Class with Pacific Northwest Wines with Food Pairings by Chef John. Reserve your spot. $50 for members\, $55 for guests.
URL:https://santivachronicle.com/event/sch-wine-tasting-class/
LOCATION:Sanibel Community House\, 2173 Periwinkle Way\, Sanibel\, Florida\, 33957
CATEGORIES:Cooking & Food
END:VEVENT
BEGIN:VEVENT
DTSTART;TZID=America/New_York:20220927T090000
DTEND;TZID=America/New_York:20220927T090000
DTSTAMP:20260423T072905
CREATED:20220908T213915Z
LAST-MODIFIED:20220908T214006Z
UID:10004184-1664269200-1664269200@santivachronicle.com
SUMMARY:SCH: Memory Cafe
DESCRIPTION:The Interfaith Group AKA Memory Café meets on the 4th Tuesday of the month at 9:00 a.m. No reservation needed\, come and join the discussion on Tues Sept 27.
URL:https://santivachronicle.com/event/sch-memory-cafe/2022-09-27/
LOCATION:Sanibel Community House\, 2173 Periwinkle Way\, Sanibel\, Florida\, 33957
CATEGORIES:Religion
END:VEVENT
END:VCALENDAR