BEGIN:VCALENDAR
VERSION:2.0
PRODID:-//Santiva Chronicle - ECPv6.15.20//NONSGML v1.0//EN
CALSCALE:GREGORIAN
METHOD:PUBLISH
X-WR-CALNAME:Santiva Chronicle
X-ORIGINAL-URL:https://santivachronicle.com
X-WR-CALDESC:Events for Santiva Chronicle
REFRESH-INTERVAL;VALUE=DURATION:PT1H
X-Robots-Tag:noindex
X-PUBLISHED-TTL:PT1H
BEGIN:VTIMEZONE
TZID:America/Indiana/Indianapolis
BEGIN:DAYLIGHT
TZOFFSETFROM:-0500
TZOFFSETTO:-0400
TZNAME:EDT
DTSTART:20190310T070000
END:DAYLIGHT
BEGIN:STANDARD
TZOFFSETFROM:-0400
TZOFFSETTO:-0500
TZNAME:EST
DTSTART:20191103T060000
END:STANDARD
BEGIN:DAYLIGHT
TZOFFSETFROM:-0500
TZOFFSETTO:-0400
TZNAME:EDT
DTSTART:20200308T070000
END:DAYLIGHT
BEGIN:STANDARD
TZOFFSETFROM:-0400
TZOFFSETTO:-0500
TZNAME:EST
DTSTART:20201101T060000
END:STANDARD
BEGIN:DAYLIGHT
TZOFFSETFROM:-0500
TZOFFSETTO:-0400
TZNAME:EDT
DTSTART:20210314T070000
END:DAYLIGHT
BEGIN:STANDARD
TZOFFSETFROM:-0400
TZOFFSETTO:-0500
TZNAME:EST
DTSTART:20211107T060000
END:STANDARD
END:VTIMEZONE
BEGIN:VEVENT
DTSTART;TZID=America/Indiana/Indianapolis:20200314T100000
DTEND;TZID=America/Indiana/Indianapolis:20200314T160000
DTSTAMP:20260420T050018
CREATED:20200304T202146Z
LAST-MODIFIED:20200304T202146Z
UID:10002980-1584180000-1584201600@santivachronicle.com
SUMMARY:Art on the Veranda
DESCRIPTION:The Sanibel Captiva Art League proudly hosts another lively Art on the Veranda. In an eclectic outdoor display\, award-winning artists from the Sanibel Captiva Art League bring original works of art for viewing and sale. Discover watercolors\, acrylics\, oils\, pastels\, collage and more. Styles and subjects are diverse and there’s always lots of local-interest art. You’ll be delighted and surprised at what these painters have to offer! \nEnliven your heart with some fabulous art at the iconic Bailey’s General Store. Be inspired and check out what our very own local artists have created for you to admire\, purchase\, and maybe pack in your suitcases. There’s always something new to see\, perhaps new artists to discover. Come on over\, visit with the talented artists\, and indulge your senses. Don’t miss this opportunity to browse the creations on Baileys’ Veranda!\nFor more information: www.sancapart.org
URL:https://santivachronicle.com/event/art-on-the-veranda-4/
LOCATION:Bailey’s General Store\, 2477 Periwinkle Way\, Sanibel\, FL\, 33957\, United States
CATEGORIES:Arts & Culture
END:VEVENT
BEGIN:VEVENT
DTSTART;TZID=America/Indiana/Indianapolis:20200208T100000
DTEND;TZID=America/Indiana/Indianapolis:20200208T150000
DTSTAMP:20260420T050018
CREATED:20200205T155137Z
LAST-MODIFIED:20200205T155137Z
UID:10002927-1581156000-1581174000@santivachronicle.com
SUMMARY:Art on the Veranda
DESCRIPTION:In an eclectic outdoor display\, award-winning artists from the Sanibel Captiva Art League bring original works of art for viewing and sale. Discover watercolors\, acrylics\, oils\, pastels\, collage and more. Styles and subjects are diverse and there’s always lots of local-interest art. You’ll be delighted and surprised at what these painters have to offer!
URL:https://santivachronicle.com/event/art-on-the-veranda-3/
LOCATION:Bailey’s General Store\, 2477 Periwinkle Way\, Sanibel\, FL\, 33957\, United States
CATEGORIES:Arts & Culture
END:VEVENT
BEGIN:VEVENT
DTSTART;TZID=America/Indiana/Indianapolis:20200111T100000
DTEND;TZID=America/Indiana/Indianapolis:20200111T150000
DTSTAMP:20260420T050018
CREATED:20200107T013052Z
LAST-MODIFIED:20200107T013052Z
UID:10002902-1578736800-1578754800@santivachronicle.com
SUMMARY:Art on the Veranda
DESCRIPTION:Everyone is invited to the Sanibel Captiva Art League Art on the Veranda. In an eclectic outdoor display\, award-winning artists from the Sanibel Captiva Art League bring their original works of art for viewing and sale. Enjoy watercolors\, acrylics\, oils\, pastels\, collage and more. Styles and subjects are diverse and there’s always lots of local-interest art. You’ll be delighted and surprised at what these painters have to offer! \nSo warm your heart with some fabulous art at the iconic Bailey General Store. Be inspired and check out what our very own local artists have created for you to admire\, purchase\, and maybe pack in your suitcases. There’s always something new to see\, so come on over\, visit with the talented artists\, and indulge your senses. Don’t miss this opportunity to browse the creations on Baileys’ Veranda.
URL:https://santivachronicle.com/event/art-on-the-veranda-2/
LOCATION:Bailey’s General Store\, 2477 Periwinkle Way\, Sanibel\, FL\, 33957\, United States
CATEGORIES:Arts & Culture
END:VEVENT
END:VCALENDAR